BEGIN:VCALENDAR
VERSION:2.0
PRODID:Greensboro, NC Calendar Creator
METHOD:PUBLISH
BEGIN:VEVENT
DTSTAMP:20260303T105006
DTSTART:20260720T163000
DTEND:20260720T171500
SUMMARY:Peter Pan with Bright Star Theatre at Glenn McNairy Branch
DESCRIPTION:<section><p>Join a comic duo from the award-winning Bright Star Touring Theatre as they hilariously work to bring the literary classic <em>Peter Pan</em> to life. In this hysterical play within a play, you will love the antics of Tinkerbell, the bumbling Captain Hook, Darling&nbsp;Wendy (or should we say Wendy Darling) and of course the free-spirited adventurous boy who just wouldn’t grow up. This program is for all ages.&nbsp;</p><p>&nbsp;</p></section>
X-ALT-DESC;FMTTYPE=text/html:<section><p>Join a comic duo from the award-winning Bright Star Touring Theatre as they hilariously work to bring the literary classic <em>Peter Pan</em> to life. In this hysterical play within a play, you will love the antics of Tinkerbell, the bumbling Captain Hook, Darling&nbsp;Wendy (or should we say Wendy Darling) and of course the free-spirited adventurous boy who just wouldn’t grow up. This program is for all ages.&nbsp;</p><p>&nbsp;</p></section>
LOCATION:Glenn McNairy Branch Library\, 4860 Lake Jeanette Rd. Greensboro\, North Carolina 27455
CLASS:PUBLIC
END:VEVENT
END:VCALENDAR
