BEGIN:VCALENDAR
VERSION:2.0
PRODID:Greensboro, NC Calendar Creator
METHOD:PUBLISH
BEGIN:VEVENT
DTSTAMP:20260417T161047
DTSTART:20260805T143000
DTEND:20260805T153000
SUMMARY:Block Party: Unearth a Minecraft Adventure at Central Library
DESCRIPTION:<p>Drop into a Minecraft-inspired world of hands-on fun. Explore creative stations featuring pixel art, scavenger hunts, LEGO building, snap circuits, trivia, and an action-packed obstacle course. Blend STEM, art, literacy, and play as you craft, build, dodge mobs, and test your skills.</p><p>This program is perfect for Minecraft fans of all levels. No screen is required; just bring your imagination.</p><p></p>
X-ALT-DESC;FMTTYPE=text/html:<p>Drop into a Minecraft-inspired world of hands-on fun. Explore creative stations featuring pixel art, scavenger hunts, LEGO building, snap circuits, trivia, and an action-packed obstacle course. Blend STEM, art, literacy, and play as you craft, build, dodge mobs, and test your skills.</p><p>This program is perfect for Minecraft fans of all levels. No screen is required; just bring your imagination.</p><p></p>
LOCATION:Central Library\, 219 N. Church St. Greensboro\, North Carolina 27401
CLASS:PUBLIC
END:VEVENT
END:VCALENDAR
