BEGIN:VCALENDAR
VERSION:2.0
PRODID:Greensboro, NC Calendar Creator
METHOD:PUBLISH
BEGIN:VEVENT
DTSTAMP:20260303T101956
DTSTART:20260630T111500
DTEND:20260630T121500
SUMMARY:Wild Tales at Central Library
DESCRIPTION:<p>Enjoy a high-energy wildlife presentation with unforgettable animal ambassadors and fascinating facts. This interactive program uncovers how wild creatures, their habitats, and humans are all part of one connected tale. Along the way, you’ll dig into why conservation matters and how everyday choices help protect the natural world.</p>
X-ALT-DESC;FMTTYPE=text/html:<p>Enjoy a high-energy wildlife presentation with unforgettable animal ambassadors and fascinating facts. This interactive program uncovers how wild creatures, their habitats, and humans are all part of one connected tale. Along the way, you’ll dig into why conservation matters and how everyday choices help protect the natural world.</p>
LOCATION:Central Library\, 219 N. Church St. Greensboro\, North Carolina 27401
CLASS:PUBLIC
END:VEVENT
END:VCALENDAR
