BEGIN:VCALENDAR
VERSION:2.0
PRODID:Greensboro, NC Calendar Creator
METHOD:PUBLISH
BEGIN:VEVENT
DTSTAMP:20260303T101452
DTSTART:20260421T163000
DTEND:20260421T171500
SUMMARY:Earth Day Sing-abration at Benjamin Branch
DESCRIPTION:<p>Enjoy an inspiring performance by singers from The Music Academy of North Carolina as they share songs honoring the earth. Discover essential tips and techniques for keeping your voice healthy and performance-ready. Plus, pick up a fun take-home craft to continue the creativity at home!</p><p></p>
X-ALT-DESC;FMTTYPE=text/html:<p>Enjoy an inspiring performance by singers from The Music Academy of North Carolina as they share songs honoring the earth. Discover essential tips and techniques for keeping your voice healthy and performance-ready. Plus, pick up a fun take-home craft to continue the creativity at home!</p><p></p>
LOCATION:Benjamin Branch Library\, 1530 Benjamin Parkway Greensboro\, North Carolina 27408
CLASS:PUBLIC
END:VEVENT
END:VCALENDAR
