BEGIN:VCALENDAR
VERSION:2.0
PRODID:Greensboro, NC Calendar Creator
METHOD:PUBLISH
BEGIN:VEVENT
DTSTAMP:20260303T101302
DTSTART:20260708T100000
DTEND:20260708T110000
SUMMARY:Captain Jim is Magic at Glenn McNairy Branch
DESCRIPTION:<p>Enjoy a magical adventure with Captain Jim and his high energy, interactive performance with positive and uplifting messages throughout. </p><p></p>
X-ALT-DESC;FMTTYPE=text/html:<p>Enjoy a magical adventure with Captain Jim and his high energy, interactive performance with positive and uplifting messages throughout. </p><p></p>
LOCATION:Glenn McNairy Branch Library\, 4860 Lake Jeanette Rd. Greensboro\, North Carolina 27455
CLASS:PUBLIC
END:VEVENT
END:VCALENDAR
