BEGIN:VCALENDAR
VERSION:2.0
PRODID:Greensboro, NC Calendar Creator
METHOD:PUBLISH
BEGIN:VEVENT
DTSTAMP:20260303T083526
DTSTART:20260804T190000
DTEND:20260804T200000
SUMMARY:All Abilities: Unearth a Story Sensory Craft and Play at McNairy Branch
DESCRIPTION:<p>Dig into&nbsp;crafts and sensory play all about bugs, butterflies, and the garden!&nbsp;This inclusive program will offer a variety of hands-on activities, including sensory bins, puzzles, crafts, toys, and more. Children of all ages (and siblings) are welcome. </p><p>This program will immediately follow the “Bugs &amp; Butterflies” Family Storytime at 6:30 pm - please join us for storytime first if you are interested!</p><p>If you have any questions or need any additional information, please contact <a href="mailto:&#107;&#101;&#108;&#108;&#121;&#46;&#112;&#114;&#111;&#117;&#100;&#102;&#105;&#116;&#64;&#103;&#114;&#101;&#101;&#110;&#115;&#98;&#111;&#114;&#111;&#45;&#110;&#99;&#46;&#103;&#111;&#118;">Kelly Proudfit</a>.</p><p>&nbsp;</p>
X-ALT-DESC;FMTTYPE=text/html:<p>Dig into&nbsp;crafts and sensory play all about bugs, butterflies, and the garden!&nbsp;This inclusive program will offer a variety of hands-on activities, including sensory bins, puzzles, crafts, toys, and more. Children of all ages (and siblings) are welcome. </p><p>This program will immediately follow the “Bugs &amp; Butterflies” Family Storytime at 6:30 pm - please join us for storytime first if you are interested!</p><p>If you have any questions or need any additional information, please contact <a href="mailto:&#107;&#101;&#108;&#108;&#121;&#46;&#112;&#114;&#111;&#117;&#100;&#102;&#105;&#116;&#64;&#103;&#114;&#101;&#101;&#110;&#115;&#98;&#111;&#114;&#111;&#45;&#110;&#99;&#46;&#103;&#111;&#118;">Kelly Proudfit</a>.</p><p>&nbsp;</p>
LOCATION:Glenn McNairy Branch Library\, 4860 Lake Jeanette Rd. Greensboro\, North Carolina 27455
CLASS:PUBLIC
END:VEVENT
END:VCALENDAR
