BEGIN:VCALENDAR
VERSION:2.0
PRODID:Greensboro, NC Calendar Creator
METHOD:PUBLISH
BEGIN:VEVENT
DTSTAMP:20260302T130457
DTSTART:20260422T100000
DTEND:20260422T120000
SUMMARY:Friendzy - Speed Friending for Active Adults 50+
DESCRIPTION:<p>Meet new people in a fun, fast-paced way! Speed Friending brings people together for quick, casual conversations that can spark lasting friendships. </p><p>Ages 50+</p>
X-ALT-DESC;FMTTYPE=text/html:<p>Meet new people in a fun, fast-paced way! Speed Friending brings people together for quick, casual conversations that can spark lasting friendships. </p><p>Ages 50+</p>
LOCATION:Smith Active Adult Center\, 2401 Fairview St. Greensboro\, North Carolina 27405
CLASS:PUBLIC
END:VEVENT
END:VCALENDAR
