BEGIN:VCALENDAR
VERSION:2.0
PRODID:Greensboro, NC Calendar Creator
METHOD:PUBLISH
BEGIN:VEVENT
DTSTAMP:20260303T132735
DTSTART:20260604T103000
DTEND:20260604T110000
SUMMARY:Preschool Storytime at LeBauer Park
DESCRIPTION:<p>Join Mr. Pete for a fun-filled outdoor storytime in LeBauer Park, Thursdays at 10:30 am, weather permitting. At Greensboro Public Library, we use edutainment to reinforce the fundamental blocks of learning in a fun environment. </p>
X-ALT-DESC;FMTTYPE=text/html:<p>Join Mr. Pete for a fun-filled outdoor storytime in LeBauer Park, Thursdays at 10:30 am, weather permitting. At Greensboro Public Library, we use edutainment to reinforce the fundamental blocks of learning in a fun environment. </p>
LOCATION:Central Library\, 219 N. Church St. Greensboro\, North Carolina 27401
CLASS:PUBLIC
END:VEVENT
END:VCALENDAR
