BEGIN:VCALENDAR
VERSION:2.0
PRODID:Greensboro, NC Calendar Creator
METHOD:PUBLISH
BEGIN:VEVENT
DTSTAMP:20260227T134327
DTSTART:20260515T103000
DTEND:20260515T111500
SUMMARY:Preschool Field Trip: Keeley Community Garden
DESCRIPTION:<p>Please meet us at the Community Garden at Keeley Park (4100 Keeley Road) for a short preschool storytime followed by a tour and scavenger hunt in the garden. We will learn what plants need in order to grow and then, plant a seed to take home and tend.</p><p>For more information, please contact Brandon Bensley by <a href="mailto:brandon.bensley@greensboro-nc.gov?subject=keeley garden field trip" title="email Miss Brandon">email</a> or phone at 336-373-7540.</p><p></p>
X-ALT-DESC;FMTTYPE=text/html:<p>Please meet us at the Community Garden at Keeley Park (4100 Keeley Road) for a short preschool storytime followed by a tour and scavenger hunt in the garden. We will learn what plants need in order to grow and then, plant a seed to take home and tend.</p><p>For more information, please contact Brandon Bensley by <a href="mailto:brandon.bensley@greensboro-nc.gov?subject=keeley garden field trip" title="email Miss Brandon">email</a> or phone at 336-373-7540.</p><p></p>
LOCATION:Keeley Park\, 4110 Keeley Rd. McLeansville\, North Carolina 27301
CLASS:PUBLIC
END:VEVENT
END:VCALENDAR
