BEGIN:VCALENDAR
VERSION:2.0
PRODID:Greensboro, NC Calendar Creator
METHOD:PUBLISH
BEGIN:VEVENT
DTSTAMP:20260227T134215
DTSTART:20260519T103000
DTEND:20260519T111500
SUMMARY:Little Beats, Big Fun at Benjamin Branch
DESCRIPTION:<p>Join us for a free preschool event with Gate City Musikgarten — a lively mix of music, movement, and playful learning! This event is perfect for little ones and their grown-ups to connect, groove, and grow together.</p><p></p>
X-ALT-DESC;FMTTYPE=text/html:<p>Join us for a free preschool event with Gate City Musikgarten — a lively mix of music, movement, and playful learning! This event is perfect for little ones and their grown-ups to connect, groove, and grow together.</p><p></p>
LOCATION:Benjamin Branch Library\, 1530 Benjamin Parkway Greensboro\, North Carolina 27408
CLASS:PUBLIC
END:VEVENT
END:VCALENDAR
