BEGIN:VCALENDAR
VERSION:2.0
PRODID:Greensboro, NC Calendar Creator
METHOD:PUBLISH
BEGIN:VEVENT
DTSTAMP:20260226T154646
DTSTART:20260807T103000
DTEND:20260807T111500
SUMMARY:Little Explorers Dig Dinosaurs
DESCRIPTION:<p>Join us for STEM, art and literacy activities inspired by dinosaurs for children aged 3 to 5. We'll mix, match, count, create and learn - together. Please dress for mess.</p><p>&nbsp;</p><p>&nbsp;</p><p>&nbsp;</p>
X-ALT-DESC;FMTTYPE=text/html:<p>Join us for STEM, art and literacy activities inspired by dinosaurs for children aged 3 to 5. We'll mix, match, count, create and learn - together. Please dress for mess.</p><p>&nbsp;</p><p>&nbsp;</p><p>&nbsp;</p>
LOCATION:Benjamin Branch Library\, 1530 Benjamin Parkway Greensboro\, North Carolina 27408
CLASS:PUBLIC
END:VEVENT
END:VCALENDAR
