BEGIN:VCALENDAR
VERSION:2.0
PRODID:Greensboro, NC Calendar Creator
METHOD:PUBLISH
BEGIN:VEVENT
DTSTAMP:20260226T154142
DTSTART:20260523T103000
DTEND:20260523T111500
SUMMARY:Thank You in Red, White and Blue at Benjamin Branch
DESCRIPTION:<p>Join us for a laid-back, drop-in craft program for children and families in honor of Memorial Day. Children will create red, white, and blue fingerprint art and assemble a pompom popper for some festive, hands-on fun. This casual program offers a simple way to celebrate creatively while honoring the meaning of the holiday.</p><p></p><p>&nbsp;</p>
X-ALT-DESC;FMTTYPE=text/html:<p>Join us for a laid-back, drop-in craft program for children and families in honor of Memorial Day. Children will create red, white, and blue fingerprint art and assemble a pompom popper for some festive, hands-on fun. This casual program offers a simple way to celebrate creatively while honoring the meaning of the holiday.</p><p></p><p>&nbsp;</p>
LOCATION:Benjamin Branch Library\, 1530 Benjamin Parkway Greensboro\, North Carolina 27408
CLASS:PUBLIC
END:VEVENT
END:VCALENDAR
