BEGIN:VCALENDAR
VERSION:2.0
PRODID:Greensboro, NC Calendar Creator
METHOD:PUBLISH
BEGIN:VEVENT
DTSTAMP:20260226T152638
DTSTART:20260629T143000
DTEND:20260629T151500
SUMMARY:Steve Somers Magic Show at Benjamin Branch
DESCRIPTION:<p>Unearth reading treasure through magic, science, and storytelling. This high-energy magic show blends silly surprises, a playful puppet, music, books, and hands-on discovery as children dig into the past, explore the present, and imagine the future. Along the way, young readers build curiosity, observation skills, and a love of reading through unforgettable stories and magical moments.</p><p>Books. Science. Magic. Can you dig it?</p><p ></p><p>&nbsp;</p>
X-ALT-DESC;FMTTYPE=text/html:<p>Unearth reading treasure through magic, science, and storytelling. This high-energy magic show blends silly surprises, a playful puppet, music, books, and hands-on discovery as children dig into the past, explore the present, and imagine the future. Along the way, young readers build curiosity, observation skills, and a love of reading through unforgettable stories and magical moments.</p><p>Books. Science. Magic. Can you dig it?</p><p ></p><p>&nbsp;</p>
LOCATION:Benjamin Branch Library\, 1530 Benjamin Parkway Greensboro\, North Carolina 27408
CLASS:PUBLIC
END:VEVENT
END:VCALENDAR
