BEGIN:VCALENDAR
VERSION:2.0
PRODID:Greensboro, NC Calendar Creator
METHOD:PUBLISH
BEGIN:VEVENT
DTSTAMP:20260226T152322
DTSTART:20260720T103000
DTEND:20260720T111500
SUMMARY:Dino Tales with Bright Star Theatre at Benjamin Branch
DESCRIPTION:<section><p>Enjoy tall tales, fables, fun and facts brought to life by a cast of colorful dinosaur characters and the award winning Bright Star Touring Theatre.</p><p></p></section>
X-ALT-DESC;FMTTYPE=text/html:<section><p>Enjoy tall tales, fables, fun and facts brought to life by a cast of colorful dinosaur characters and the award winning Bright Star Touring Theatre.</p><p></p></section>
LOCATION:Benjamin Branch Library\, 1530 Benjamin Parkway Greensboro\, North Carolina 27408
CLASS:PUBLIC
END:VEVENT
END:VCALENDAR
