BEGIN:VCALENDAR
VERSION:2.0
PRODID:Greensboro, NC Calendar Creator
METHOD:PUBLISH
BEGIN:VEVENT
DTSTAMP:20260225T143431
DTSTART:20260423T103000
DTEND:20260423T113000
SUMMARY:Preschool Storytime at Hemphill Branch
DESCRIPTION:<p>Moo, baa, quack quack! What animals live on a farm? Ms. Marya will present storytime all about farm life. Preschoolers and toddlers, along with parents and caregivers, are invited to enjoy stories, songs, and movement activities.&nbsp;</p><p>After storytime, we'll play in the garden, weather permitting.&nbsp;</p><p>&nbsp;</p><p>&nbsp;</p><p>&nbsp;</p><p>&nbsp;</p>
X-ALT-DESC;FMTTYPE=text/html:<p>Moo, baa, quack quack! What animals live on a farm? Ms. Marya will present storytime all about farm life. Preschoolers and toddlers, along with parents and caregivers, are invited to enjoy stories, songs, and movement activities.&nbsp;</p><p>After storytime, we'll play in the garden, weather permitting.&nbsp;</p><p>&nbsp;</p><p>&nbsp;</p><p>&nbsp;</p><p>&nbsp;</p>
LOCATION:Hemphill Branch Library\, 2301 W. Vandalia Rd. Greensboro\, North Carolina 27407
CLASS:PUBLIC
END:VEVENT
END:VCALENDAR
