BEGIN:VCALENDAR
VERSION:2.0
PRODID:Greensboro, NC Calendar Creator
METHOD:PUBLISH
BEGIN:VEVENT
DTSTAMP:20260225T143404
DTSTART:20260622T163000
DTEND:20260622T173000
SUMMARY:Big Bang Boom! at Central Library
DESCRIPTION:<p>Get ready to crank up the fun when Big Bang Boom takes the stage with a high-energy concert made for children and grown-ups who love great music too. This rockin' trio blends pop hooks, hip-hop beats, and playful lessons into songs that are catchy, clever, and full of surprises. Come sing, move, laugh, and learn together!</p>
X-ALT-DESC;FMTTYPE=text/html:<p>Get ready to crank up the fun when Big Bang Boom takes the stage with a high-energy concert made for children and grown-ups who love great music too. This rockin' trio blends pop hooks, hip-hop beats, and playful lessons into songs that are catchy, clever, and full of surprises. Come sing, move, laugh, and learn together!</p>
LOCATION:Central Library\, 219 N. Church St. Greensboro\, North Carolina 27401
CLASS:PUBLIC
END:VEVENT
END:VCALENDAR
