BEGIN:VCALENDAR
VERSION:2.0
PRODID:Greensboro, NC Calendar Creator
METHOD:PUBLISH
BEGIN:VEVENT
DTSTAMP:20260225T143159
DTSTART:20260708T163000
DTEND:20260708T173000
SUMMARY:Captain Jim is Magic at Central Library
DESCRIPTION:<p>Enjoy a magical adventure with Captain Jim and his high energy, interactive performance with positive and uplifting messages throughout.</p>
X-ALT-DESC;FMTTYPE=text/html:<p>Enjoy a magical adventure with Captain Jim and his high energy, interactive performance with positive and uplifting messages throughout.</p>
LOCATION:Central Library\, 219 N. Church St. Greensboro\, North Carolina 27401
CLASS:PUBLIC
END:VEVENT
END:VCALENDAR
