BEGIN:VCALENDAR
VERSION:2.0
PRODID:Greensboro, NC Calendar Creator
METHOD:PUBLISH
BEGIN:VEVENT
DTSTAMP:20260225T143115
DTSTART:20260430T103000
DTEND:20260430T113000
SUMMARY:Preschool Storytime at Hemphill Branch
DESCRIPTION:<p>Where do butterflies come from? Join Miss Marya for stories about caterpillars and butterflies. Preschoolers and toddlers, along with parents and caregivers, are invited to enjoy stories, songs, and movement activities.&nbsp;</p><p>After storytime, we'll create a colorful butterfly craft.&nbsp;</p><p>&nbsp;</p><p>&nbsp;</p><p>&nbsp;</p><p>&nbsp;</p>
X-ALT-DESC;FMTTYPE=text/html:<p>Where do butterflies come from? Join Miss Marya for stories about caterpillars and butterflies. Preschoolers and toddlers, along with parents and caregivers, are invited to enjoy stories, songs, and movement activities.&nbsp;</p><p>After storytime, we'll create a colorful butterfly craft.&nbsp;</p><p>&nbsp;</p><p>&nbsp;</p><p>&nbsp;</p><p>&nbsp;</p>
LOCATION:Hemphill Branch Library\, 2301 W. Vandalia Rd. Greensboro\, North Carolina 27407
CLASS:PUBLIC
END:VEVENT
END:VCALENDAR
