BEGIN:VCALENDAR
VERSION:2.0
PRODID:Greensboro, NC Calendar Creator
METHOD:PUBLISH
BEGIN:VEVENT
DTSTAMP:20260224T154725
DTSTART:20260630T183000
DTEND:20260630T190000
SUMMARY:Family Storytime at the Glenn McNairy Branch
DESCRIPTION:<p>Join Ms. Kelly at the Glenn McNairy Branch for a family storytime for all ages. This evening's storytime theme is summer fun and the 4th of July, and will include books, songs, and rhymes. </p><p>We will meet&nbsp;in the storytime area of the children's section. If you have any questions, please call the Glenn McNairy Branch at 336-373-2015.</p><p>This evening's program will be followed by the inclusive "All Abilities: 4<sup>th</sup> of July Sensory Craft and Play" program - join us after storytime for 4th of July fun!</p><p></p><p>&nbsp;</p><p style="text-align: left;">&nbsp;</p><p style="text-align: left;">&nbsp;</p>
X-ALT-DESC;FMTTYPE=text/html:<p>Join Ms. Kelly at the Glenn McNairy Branch for a family storytime for all ages. This evening's storytime theme is summer fun and the 4th of July, and will include books, songs, and rhymes. </p><p>We will meet&nbsp;in the storytime area of the children's section. If you have any questions, please call the Glenn McNairy Branch at 336-373-2015.</p><p>This evening's program will be followed by the inclusive "All Abilities: 4<sup>th</sup> of July Sensory Craft and Play" program - join us after storytime for 4th of July fun!</p><p></p><p>&nbsp;</p><p style="text-align: left;">&nbsp;</p><p style="text-align: left;">&nbsp;</p>
LOCATION:Glenn McNairy Branch Library\, 4860 Lake Jeanette Rd. Greensboro\, North Carolina 27455
CLASS:PUBLIC
END:VEVENT
END:VCALENDAR
