BEGIN:VCALENDAR
VERSION:2.0
PRODID:Greensboro, NC Calendar Creator
METHOD:PUBLISH
BEGIN:VEVENT
DTSTAMP:20260224T154522
DTSTART:20260623T150000
DTEND:20260623T160000
SUMMARY:ecoExplore with the Greensboro Science Center at McNairy Branch
DESCRIPTION:<p>Scientists need YOUR help in studying animals everywhere, including your own backyard!</p><p> Join us for an Introduction to Herpetology, the study of reptiles and amphibians! You’ll learn all about our reptile and amphibian friends from one of the educators at the Greensboro Science Center! You can also join the crew of ecoExplorers — children who submit observations of plants and animals for scientists to study and earn prizes while they do it. For more information about ecoExplore, visit the <a href="https://ecoexplore.net/" target="_blank">ecoExplore website</a>.&nbsp;</p><p>Today's program will also "Unearth a Story" about Komodo Dragons, the largest lizards in the world.</p><p> This event is recommended for ages 5 to 13 but all ages are welcome to attend. Space is limited, and registration is recommended. To register for the program, please call the Glenn McNairy Branch at 336-373-2015.</p><p>&nbsp;</p>
X-ALT-DESC;FMTTYPE=text/html:<p>Scientists need YOUR help in studying animals everywhere, including your own backyard!</p><p> Join us for an Introduction to Herpetology, the study of reptiles and amphibians! You’ll learn all about our reptile and amphibian friends from one of the educators at the Greensboro Science Center! You can also join the crew of ecoExplorers — children who submit observations of plants and animals for scientists to study and earn prizes while they do it. For more information about ecoExplore, visit the <a href="https://ecoexplore.net/" target="_blank">ecoExplore website</a>.&nbsp;</p><p>Today's program will also "Unearth a Story" about Komodo Dragons, the largest lizards in the world.</p><p> This event is recommended for ages 5 to 13 but all ages are welcome to attend. Space is limited, and registration is recommended. To register for the program, please call the Glenn McNairy Branch at 336-373-2015.</p><p>&nbsp;</p>
LOCATION:Glenn McNairy Branch Library\, 4860 Lake Jeanette Rd. Greensboro\, North Carolina 27455
CLASS:PUBLIC
END:VEVENT
END:VCALENDAR
