BEGIN:VCALENDAR
VERSION:2.0
PRODID:Greensboro, NC Calendar Creator
METHOD:PUBLISH
BEGIN:VEVENT
DTSTAMP:20260224T150841
DTSTART:20260605T100000
DTEND:20260605T120000
SUMMARY:Pretend Play: Let's Go on a Dinosaur Safari at the Glenn McNairy Branch
DESCRIPTION:<p>Bring your teddy bear or other favorite stuffed animal for pretend play at the  McNairy Branch! </p><p>Today will be all about dinosaurs! We will make “binoculars” to search for dinos hiding in the library, create our own fossils, “dig” for dinosaur bones, and more! This is a drop-in program for children ages 5 and under.&nbsp;</p><p>&nbsp;</p>
X-ALT-DESC;FMTTYPE=text/html:<p>Bring your teddy bear or other favorite stuffed animal for pretend play at the  McNairy Branch! </p><p>Today will be all about dinosaurs! We will make “binoculars” to search for dinos hiding in the library, create our own fossils, “dig” for dinosaur bones, and more! This is a drop-in program for children ages 5 and under.&nbsp;</p><p>&nbsp;</p>
LOCATION:Glenn McNairy Branch Library\, 4860 Lake Jeanette Rd. Greensboro\, North Carolina 27455
CLASS:PUBLIC
END:VEVENT
END:VCALENDAR
