BEGIN:VCALENDAR
VERSION:2.0
PRODID:Greensboro, NC Calendar Creator
METHOD:PUBLISH
BEGIN:VEVENT
DTSTAMP:20260224T150809
DTSTART:20260620T090000
DTEND:20260620T170000
SUMMARY:Dino Cards for Dad at McNairy
DESCRIPTION:Father's Day is June 21 - stop by the Glenn McNairy Branch today to make a dinosaur-themed card for your dad or someone you love! All ages are welcome.&nbsp;
X-ALT-DESC;FMTTYPE=text/html:Father's Day is June 21 - stop by the Glenn McNairy Branch today to make a dinosaur-themed card for your dad or someone you love! All ages are welcome.&nbsp;
LOCATION:Glenn McNairy Branch Library\, 4860 Lake Jeanette Rd. Greensboro\, North Carolina 27455
CLASS:PUBLIC
END:VEVENT
END:VCALENDAR
