BEGIN:VCALENDAR
VERSION:2.0
PRODID:Greensboro, NC Calendar Creator
METHOD:PUBLISH
BEGIN:VEVENT
DTSTAMP:20260224T144401
DTSTART:20260514T153000
DTEND:20260514T161500
SUMMARY:Ready Readers: "InvestiGators" by John Patrick Green at McNairy Branch
DESCRIPTION:<p>The "Ready Readers" program is a monthly event for young readers that highlights popular book series that children love. Each event includes selections read aloud by the librarian from favorite books, followed by a craft or activity, and book recommendations.</p><p>This month’s we are talking about two of our favorite mystery series, both by John Patrick Green – the InvestiGators and Agents of S.U.I.T. Come hear about these series and other mysteries, then enjoy some investigating of your own as we challenge your skills with detective activities!</p><p>This program is recommended for ages 5 - 8, but all ages are welcome.</p><p>Questions? Contact <a href="mailto:&#107;&#101;&#108;&#108;&#121;&#46;&#112;&#114;&#111;&#117;&#100;&#102;&#105;&#116;&#64;&#103;&#114;&#101;&#101;&#110;&#115;&#98;&#111;&#114;&#111;&#45;&#110;&#99;&#46;&#103;&#111;&#118;">Kelly Proudfit</a> at the Glenn McNairy Branch Library.</p><p>&nbsp;</p>
X-ALT-DESC;FMTTYPE=text/html:<p>The "Ready Readers" program is a monthly event for young readers that highlights popular book series that children love. Each event includes selections read aloud by the librarian from favorite books, followed by a craft or activity, and book recommendations.</p><p>This month’s we are talking about two of our favorite mystery series, both by John Patrick Green – the InvestiGators and Agents of S.U.I.T. Come hear about these series and other mysteries, then enjoy some investigating of your own as we challenge your skills with detective activities!</p><p>This program is recommended for ages 5 - 8, but all ages are welcome.</p><p>Questions? Contact <a href="mailto:&#107;&#101;&#108;&#108;&#121;&#46;&#112;&#114;&#111;&#117;&#100;&#102;&#105;&#116;&#64;&#103;&#114;&#101;&#101;&#110;&#115;&#98;&#111;&#114;&#111;&#45;&#110;&#99;&#46;&#103;&#111;&#118;">Kelly Proudfit</a> at the Glenn McNairy Branch Library.</p><p>&nbsp;</p>
LOCATION:Glenn McNairy Branch Library\, 4860 Lake Jeanette Rd. Greensboro\, North Carolina 27455
CLASS:PUBLIC
END:VEVENT
END:VCALENDAR
