BEGIN:VCALENDAR
VERSION:2.0
PRODID:Greensboro, NC Calendar Creator
METHOD:PUBLISH
BEGIN:VEVENT
DTSTAMP:20260219T154747
DTSTART:20260307T140000
DTEND:20260307T150000
SUMMARY:Local Author Altonya Washington Presents "Zepha's Place"
DESCRIPTION:<p>Altonya Washington returns with a presentation on her new novel <em>Zepha’s Place</em>. Altonya is the author of more than 100 romance novels. She currently works in the library at Winston-Salem State University. Her new novel is a departure from romance as she enters the historical fiction genre. It is the story of Zepha Dodge, an entrepreneur at a time when Black women could not claim such an accomplishment. Books will be available for purchase. There will be a book signing after the presentation. Contact Ronald Headen by&nbsp;<a href="mailto:&#114;&#111;&#110;&#97;&#108;&#100;&#46;&#104;&#101;&#97;&#100;&#101;&#110;&#64;&#103;&#114;&#101;&#101;&#110;&#115;&#98;&#111;&#114;&#111;&#45;&#110;&#99;&#46;&#103;&#111;&#118;">email</a> or 336-412-6199 for more information.</p><p style="text-align: center;">&nbsp;</p><p style="text-align: center;">&nbsp;</p><p><b>&nbsp;</b></p>
X-ALT-DESC;FMTTYPE=text/html:<p>Altonya Washington returns with a presentation on her new novel <em>Zepha’s Place</em>. Altonya is the author of more than 100 romance novels. She currently works in the library at Winston-Salem State University. Her new novel is a departure from romance as she enters the historical fiction genre. It is the story of Zepha Dodge, an entrepreneur at a time when Black women could not claim such an accomplishment. Books will be available for purchase. There will be a book signing after the presentation. Contact Ronald Headen by&nbsp;<a href="mailto:&#114;&#111;&#110;&#97;&#108;&#100;&#46;&#104;&#101;&#97;&#100;&#101;&#110;&#64;&#103;&#114;&#101;&#101;&#110;&#115;&#98;&#111;&#114;&#111;&#45;&#110;&#99;&#46;&#103;&#111;&#118;">email</a> or 336-412-6199 for more information.</p><p style="text-align: center;">&nbsp;</p><p style="text-align: center;">&nbsp;</p><p><b>&nbsp;</b></p>
LOCATION:Hemphill Branch Library\, 2301 W. Vandalia Rd. Greensboro\, North Carolina 27407
CLASS:PUBLIC
END:VEVENT
END:VCALENDAR
