BEGIN:VCALENDAR
VERSION:2.0
PRODID:Greensboro, NC Calendar Creator
METHOD:PUBLISH
BEGIN:VEVENT
DTSTAMP:20260213T110139
DTSTART:20260325T193000
DTEND:20260325T203000
SUMMARY:Owl Prowl
DESCRIPTION:Discover the world of owls including different species, adaptions for night hunting, behaviors, and the ecological significance of their vocalizations. Then join us for a guided hike in Price Park listening for owl calls. Dress for weather, wear quiet clothing and sturdy shoes. To register, e-mail <a href="mailto:melanie.buckingham@greensboro-nc.gov?subject=Register for Owl Prowl" id="melanie.buckingham@greensboro-nc.gov" title="Register for Owl Prowl">Melanie Buckingham</a>.&nbsp;<br bcx0"="">
X-ALT-DESC;FMTTYPE=text/html:Discover the world of owls including different species, adaptions for night hunting, behaviors, and the ecological significance of their vocalizations. Then join us for a guided hike in Price Park listening for owl calls. Dress for weather, wear quiet clothing and sturdy shoes. To register, e-mail <a href="mailto:melanie.buckingham@greensboro-nc.gov?subject=Register for Owl Prowl" id="melanie.buckingham@greensboro-nc.gov" title="Register for Owl Prowl">Melanie Buckingham</a>.&nbsp;<br bcx0"="">
LOCATION:Kathleen Clay Edwards Family Branch Library\, 1420 Price Park Rd. Greensboro\, North Carolina 27410
CLASS:PUBLIC
END:VEVENT
END:VCALENDAR
