BEGIN:VCALENDAR
VERSION:2.0
PRODID:Greensboro, NC Calendar Creator
METHOD:PUBLISH
BEGIN:VEVENT
DTSTAMP:20260210T085940
DTSTART:20260513T173000
DTEND:20260513T183000
SUMMARY:Wildlife on the Greenway
DESCRIPTION:<div>Discover the animals that call the Downtown Greenway home on Wednesday, May 13 from 5:30-6:30 pm at Meeting Place. You'll learn how they interact with each other and how they live in our community - from turtles to groundhogs, and blue heron to deer! There might even be a few critter friends who join for a visit!</div><p>&nbsp;</p><p>Register online at: <span style="text-decoration: underline;"><strong><a href="https://tinyurl.com/DGwildlife" target="_blank" rel="noopener">https://tinyurl.com/DGwildlife</a></strong></span>&nbsp;(drop-ins welcome; space permitting)</p><p>&nbsp;</p><p>Parking is located along Prescott Street. (Note: there are no public restrooms on-site)</p>
X-ALT-DESC;FMTTYPE=text/html:<div>Discover the animals that call the Downtown Greenway home on Wednesday, May 13 from 5:30-6:30 pm at Meeting Place. You'll learn how they interact with each other and how they live in our community - from turtles to groundhogs, and blue heron to deer! There might even be a few critter friends who join for a visit!</div><p>&nbsp;</p><p>Register online at: <span style="text-decoration: underline;"><strong><a href="https://tinyurl.com/DGwildlife" target="_blank" rel="noopener">https://tinyurl.com/DGwildlife</a></strong></span>&nbsp;(drop-ins welcome; space permitting)</p><p>&nbsp;</p><p>Parking is located along Prescott Street. (Note: there are no public restrooms on-site)</p>
LOCATION:Meeting Place Park\, 801 W Smith St Greensboro\, North Carolina 27401
CLASS:PUBLIC
END:VEVENT
END:VCALENDAR
