BEGIN:VCALENDAR
VERSION:2.0
PRODID:Greensboro, NC Calendar Creator
METHOD:PUBLISH
BEGIN:VEVENT
DTSTAMP:20260209T165806
DTSTART:20260504T173000
DTEND:20260504T183000
SUMMARY:Growing a Pollinator Garden
DESCRIPTION:<div>Join us Monday, May 4 from 5:30-6:30 pm at Woven Works Park, and learn how to grow a garden that supports our pollinator friends! Explore the Downtown Greenway's bird, bee, and butterfly pollinator garden with members of TriadWild!</div><div>&nbsp;</div><div>Whether you have a backyard or a patio, you’ll discover how to plant a garden that attracts and supports our local pollinators.</div><div>&nbsp;</div><div>Register online at:&nbsp;<span style="text-decoration: underline;"><strong><a href="https://tinyurl.com/DGpollinatorgarden" target="_blank" rel="noopener">https://tinyurl.com/DGpollinatorgarden</a></strong></span> (drop-ins welcome; space permitting)</div><p>&nbsp;</p><div></div><div>Street parking is available at 401 Cumberland Street. (Note: there are no public restrooms on-site)</div>
X-ALT-DESC;FMTTYPE=text/html:<div>Join us Monday, May 4 from 5:30-6:30 pm at Woven Works Park, and learn how to grow a garden that supports our pollinator friends! Explore the Downtown Greenway's bird, bee, and butterfly pollinator garden with members of TriadWild!</div><div>&nbsp;</div><div>Whether you have a backyard or a patio, you’ll discover how to plant a garden that attracts and supports our local pollinators.</div><div>&nbsp;</div><div>Register online at:&nbsp;<span style="text-decoration: underline;"><strong><a href="https://tinyurl.com/DGpollinatorgarden" target="_blank" rel="noopener">https://tinyurl.com/DGpollinatorgarden</a></strong></span> (drop-ins welcome; space permitting)</div><p>&nbsp;</p><div></div><div>Street parking is available at 401 Cumberland Street. (Note: there are no public restrooms on-site)</div>
LOCATION:Woven Works Park\, 401 Cumberland St Greensboro\, North Carolina 27401
CLASS:PUBLIC
END:VEVENT
END:VCALENDAR
