BEGIN:VCALENDAR
VERSION:2.0
PRODID:Greensboro, NC Calendar Creator
METHOD:PUBLISH
BEGIN:VEVENT
DTSTAMP:20260209T165247
DTSTART:20260511T173000
DTEND:20260511T183000
SUMMARY:Mental Health Matters
DESCRIPTION:<p>Happy Mental Health Awareness Month! Let’s break the stigma, support one another, and remember...mental health matters!</p><p>Join us on Monday, May 11 from 5:30-6:30 pm at Meeting Place, along the Downtown Greenway. Come learn from local mental health practitioners about tips and tools to pause and show a little self-compassion with discussions and resources from Compassionate Voice. Your mind deserves care too.</p><p>&nbsp;</p><p>Register online at:&nbsp;<span style="text-decoration: underline;"><strong><a href="https://tinyurl.com/DGmentalhealth" target="_blank" rel="noopener">https://tinyurl.com/DGmentalhealth</a></strong></span><strong>&nbsp;</strong>(drop-ins welcome; space permitting)<a href="https://tinyurl.com/DGmentalhealth" target="_blank" rel="noopener"></a></p><p>&nbsp;</p><p>Parking available along Prescott Street. (Note: there are no public restrooms on-site)</p>
X-ALT-DESC;FMTTYPE=text/html:<p>Happy Mental Health Awareness Month! Let’s break the stigma, support one another, and remember...mental health matters!</p><p>Join us on Monday, May 11 from 5:30-6:30 pm at Meeting Place, along the Downtown Greenway. Come learn from local mental health practitioners about tips and tools to pause and show a little self-compassion with discussions and resources from Compassionate Voice. Your mind deserves care too.</p><p>&nbsp;</p><p>Register online at:&nbsp;<span style="text-decoration: underline;"><strong><a href="https://tinyurl.com/DGmentalhealth" target="_blank" rel="noopener">https://tinyurl.com/DGmentalhealth</a></strong></span><strong>&nbsp;</strong>(drop-ins welcome; space permitting)<a href="https://tinyurl.com/DGmentalhealth" target="_blank" rel="noopener"></a></p><p>&nbsp;</p><p>Parking available along Prescott Street. (Note: there are no public restrooms on-site)</p>
LOCATION:Meeting Place Park\, 801 W Smith St Greensboro\, North Carolina 27401
CLASS:PUBLIC
END:VEVENT
END:VCALENDAR
