BEGIN:VCALENDAR
VERSION:2.0
PRODID:Greensboro, NC Calendar Creator
METHOD:PUBLISH
BEGIN:VEVENT
DTSTAMP:20260209T164901
DTSTART:20260528T180000
DTEND:20260528T200000
SUMMARY:Tune In and Tune Up
DESCRIPTION:<p>Tune in to some good music while you tune up your bicycle! Join us at Cairn's Course on the Downtown Greenway  as we celebrate National Bike Month!</p><p>&nbsp;</p><p>We'll have a DJ spinning tunes and volunteer bike mechanics from The Community Bike Shop and Bicycling in Greensboro providing simple bicycle tune-ups. Learn about the "ABC Quick Check" and basic bike maintenance while enjoying the company of other folks who like to ride. </p>
X-ALT-DESC;FMTTYPE=text/html:<p>Tune in to some good music while you tune up your bicycle! Join us at Cairn's Course on the Downtown Greenway  as we celebrate National Bike Month!</p><p>&nbsp;</p><p>We'll have a DJ spinning tunes and volunteer bike mechanics from The Community Bike Shop and Bicycling in Greensboro providing simple bicycle tune-ups. Learn about the "ABC Quick Check" and basic bike maintenance while enjoying the company of other folks who like to ride. </p>
LOCATION:Cairn's Course\, 501 Guilford Avenue Greensboro\, North Carolina 27401
CLASS:PUBLIC
END:VEVENT
END:VCALENDAR
