BEGIN:VCALENDAR
VERSION:2.0
PRODID:Greensboro, NC Calendar Creator
METHOD:PUBLISH
BEGIN:VEVENT
DTSTAMP:20260209T164901
DTSTART:20260419T140000
DTEND:20260419T160000
SUMMARY:Break-A-Way
DESCRIPTION:<div>Ready to flip, spin, and move like never before? Join this breakdancing class and "Break-A-Way" as you learn the power, flow, and style of street dance on Sunday, April 19 at 2-4 pm at the Freedom Cornerstone on the Downtown Greenway. Led by local break dancing instructor,&nbsp;Emilio Marz.</div><div></div><div>No experience needed - just bring your energy and let’s hit the floor!</div><p>&nbsp;</p><p>Register online at:&nbsp;<span style="text-decoration: underline;"><strong><a href="https://tinyurl.com/DGbreakdance" target="_blank" rel="noopener">https://tinyurl.com/DGbreakdance</a></strong></span></p><p>&nbsp;</p><div>Parking is available at 750 Plott Street. (Note: there are no public restrooms on-site).</div>
X-ALT-DESC;FMTTYPE=text/html:<div>Ready to flip, spin, and move like never before? Join this breakdancing class and "Break-A-Way" as you learn the power, flow, and style of street dance on Sunday, April 19 at 2-4 pm at the Freedom Cornerstone on the Downtown Greenway. Led by local break dancing instructor,&nbsp;Emilio Marz.</div><div></div><div>No experience needed - just bring your energy and let’s hit the floor!</div><p>&nbsp;</p><p>Register online at:&nbsp;<span style="text-decoration: underline;"><strong><a href="https://tinyurl.com/DGbreakdance" target="_blank" rel="noopener">https://tinyurl.com/DGbreakdance</a></strong></span></p><p>&nbsp;</p><div>Parking is available at 750 Plott Street. (Note: there are no public restrooms on-site).</div>
LOCATION:Freedom Cornerstone\, 750 Plott Street Greensboro\, North Carolina 27401
CLASS:PUBLIC
END:VEVENT
END:VCALENDAR
