BEGIN:VCALENDAR
VERSION:2.0
PRODID:Greensboro, NC Calendar Creator
METHOD:PUBLISH
BEGIN:VEVENT
DTSTAMP:20260209T163706
DTSTART:20260514T170000
DTEND:20260514T190000
SUMMARY:Yappy Hour
DESCRIPTION:<div x14z9mp="" xat24cr="" x1lziwak="" x1vvkbs"="">It’s time for the pups to party!</div><div x14z9mp="" xat24cr="" x1lziwak="" x1vvkbs"="">&nbsp;</div><div x14z9mp="" xat24cr="" x1lziwak="" x1vvkbs"="">Join us on Thursday, May 14 at LoFi Park (500 N. Eugene Street) from 5-7 pm. Enjoy some time outdoors and bring your four-legged friends to cool off and play!</div><div xat24cr="" x1lziwak="" x1vvkbs="" xtlvy1s"="">&nbsp;</div><div xat24cr="" x1lziwak="" x1vvkbs="" xtlvy1s"="">Leashed dogs of all sizes are welcome to join the festivities and fun with splash pools, doggie treats, and prize drawings.</div><div xat24cr="" x1lziwak="" x1vvkbs="" xtlvy1s"="">&nbsp;</div><div xat24cr="" x1lziwak="" x1vvkbs="" xtlvy1s"="">Engage with local community organizations and canine-centric businesses who will be on-site to offer giveaways, information, and more!</div>
X-ALT-DESC;FMTTYPE=text/html:<div x14z9mp="" xat24cr="" x1lziwak="" x1vvkbs"="">It’s time for the pups to party!</div><div x14z9mp="" xat24cr="" x1lziwak="" x1vvkbs"="">&nbsp;</div><div x14z9mp="" xat24cr="" x1lziwak="" x1vvkbs"="">Join us on Thursday, May 14 at LoFi Park (500 N. Eugene Street) from 5-7 pm. Enjoy some time outdoors and bring your four-legged friends to cool off and play!</div><div xat24cr="" x1lziwak="" x1vvkbs="" xtlvy1s"="">&nbsp;</div><div xat24cr="" x1lziwak="" x1vvkbs="" xtlvy1s"="">Leashed dogs of all sizes are welcome to join the festivities and fun with splash pools, doggie treats, and prize drawings.</div><div xat24cr="" x1lziwak="" x1vvkbs="" xtlvy1s"="">&nbsp;</div><div xat24cr="" x1lziwak="" x1vvkbs="" xtlvy1s"="">Engage with local community organizations and canine-centric businesses who will be on-site to offer giveaways, information, and more!</div>
LOCATION:LoFi Park\, 500 N Eugene St Greensboro\, North Carolina 27401
CLASS:PUBLIC
END:VEVENT
END:VCALENDAR
