BEGIN:VCALENDAR
VERSION:2.0
PRODID:Greensboro, NC Calendar Creator
METHOD:PUBLISH
BEGIN:VEVENT
DTSTAMP:20260209T163705
DTSTART:20260517T130000
DTEND:20260517T150000
SUMMARY:Canvas Painting Class
DESCRIPTION:<p>Local artist, Darlene J. McClinton, will be leading a guided canvas painting class on the Downtown Greenway. Join us at the Morehead Park Trailhead (475 Spring Garden Street) for a fun afternoon of spring-themed creativity, right under Darlene's own "Bridging The Gap" mural.</p><p>&nbsp;</p><p>All supplies will be provided, and participants will be able to take home their own canvas masterpiece!</p><p>Pre-registration is required:&nbsp;<span style="text-decoration: underline;"><strong><a href="https://tinyurl.com/DGcanvas" target="_blank" rel="noopener">https://tinyurl.com/DGcanvas</a></strong></span></p><p>&nbsp;</p><p>(Note: there are no public restrooms available on-site)</p><br>
X-ALT-DESC;FMTTYPE=text/html:<p>Local artist, Darlene J. McClinton, will be leading a guided canvas painting class on the Downtown Greenway. Join us at the Morehead Park Trailhead (475 Spring Garden Street) for a fun afternoon of spring-themed creativity, right under Darlene's own "Bridging The Gap" mural.</p><p>&nbsp;</p><p>All supplies will be provided, and participants will be able to take home their own canvas masterpiece!</p><p>Pre-registration is required:&nbsp;<span style="text-decoration: underline;"><strong><a href="https://tinyurl.com/DGcanvas" target="_blank" rel="noopener">https://tinyurl.com/DGcanvas</a></strong></span></p><p>&nbsp;</p><p>(Note: there are no public restrooms available on-site)</p><br>
LOCATION:Morehead Park Trailhead\, 475 Spring Garden Street Greensboro\, North Carolina 27401
CLASS:PUBLIC
END:VEVENT
END:VCALENDAR
