BEGIN:VCALENDAR
VERSION:2.0
PRODID:Greensboro, NC Calendar Creator
METHOD:PUBLISH
BEGIN:VEVENT
DTSTAMP:20260209T160707
DTSTART:20260516T110000
DTEND:20260516T140000
SUMMARY:Downtown Greenway Grand Opening & Ribbon-Cutting
DESCRIPTION:<p>We have reached the finish line! It's time to celebrate the completion of construction for the Downtown Greenway's final mile!</p><p>&nbsp;</p><p>All are welcome to join for a fun-filled event to recognize this exciting milestone, as we officially open all 4 miles of this multi-use path that surrounds downtown Greensboro. We'll have live music, food trucks, games, giveaways, and more. <strong>Join us on Saturday, May 16 from 11 am to 2 pm at Cairn's Course, located at 501 Guilford Avenue.</strong> Bring your friends and neighbors and let’s celebrate together!</p>
X-ALT-DESC;FMTTYPE=text/html:<p>We have reached the finish line! It's time to celebrate the completion of construction for the Downtown Greenway's final mile!</p><p>&nbsp;</p><p>All are welcome to join for a fun-filled event to recognize this exciting milestone, as we officially open all 4 miles of this multi-use path that surrounds downtown Greensboro. We'll have live music, food trucks, games, giveaways, and more. <strong>Join us on Saturday, May 16 from 11 am to 2 pm at Cairn's Course, located at 501 Guilford Avenue.</strong> Bring your friends and neighbors and let’s celebrate together!</p>
LOCATION:Cairn\, 
CLASS:PUBLIC
END:VEVENT
END:VCALENDAR
