BEGIN:VCALENDAR
VERSION:2.0
PRODID:Greensboro, NC Calendar Creator
METHOD:PUBLISH
BEGIN:VEVENT
DTSTAMP:20260209T125332
DTSTART:20260228T140000
DTEND:20260228T150000
SUMMARY:Calligraphy 101
DESCRIPTION:<div x14z9mp="" xat24cr="" x1lziwak="" x1vvkbs"="">Take time for yourself through the art of calligraphy on Saturday, February 28 from 2-4 pm at Meeting Place on the Downtown Greenway. In this beautiful handwriting class, you will learn the basics of the lowercase Italic alphabet in pencil - the skeleton of each letterform - from world-renowned calligrapher Pat Levitin. All supplies will be provided.</div><p x14z9mp="" xat24cr="" x1lziwak="" x1vvkbs"="">&nbsp;</p><div xat24cr="" x1lziwak="" x1vvkbs="" xtlvy1s"="">Pat’s calligraphic work includes resolutions, poems, and certificates for local universities and private clients. Her work has been exhibited throughout North Carolina and at international conferences. For more information, please visit her website at&nbsp;<a attributionsrc="/privacy_sandbox/comet/register/source/?xt=AZYOfnd-1wylSlx3-oqTO1KUtcayUzx_m7CCkxXQ9FayZt9asqDphrycgJW-xJ6rty42AV6ZAQdGcIwbXJNkfmxxw2Rg3NwEKEG5qXdfJK5QP76g_WgEYj9vnY0hdq4xW4BNUfh53ZSj1vGHhgjZCwzC-fWrLJr0wLYpmFBzzT_eUgP_5h71lXsCnpynkIEYq5kuSgABnX3MmHzw-18Jca1yl44iaDPg5YdeQOHR1R17d0CF1FWKUaPYDI4Uo_aGg_9tfM_MFw96tFG4OIzmldx24FQdJyLJWFXflfiXRaTwsMhHGZy9N9L90A9NshiKXPD-y7Lfo9YyMqx2mIGio2sgJC7wCk4K4WHsJM7YFIlQedvAbhmpXB6czfaqv2J6ZIlwUiIGnrCy-wieBFPJ9tuA9TL4MC61_vsUxJMhHkR0CDQxE-D02hr9fKpirsEPU6c7VRDoiE6-WoeHvRfeDCDACZiO3I7OZd707T_-9kXpbMi1fMEJUStXlPrkS9d4NfvJ4dGCPJ56Vux93z15b-yWug4tdTOXU0FBqeAY2K006rD5depuFJEMYSAEoO-JikFGKsCYbzLg8LC6IS9RBovU6xbfMXaoNrYhWzWJzxKKvYEuAVkwu1eAf5gb-tEKxwBC2Fddt6SrOr1DF5ZJ5B65kFdiYO_PTuRFellQb0_Yhz750AlI5iod4YymwsPHj0A6Vo4vOS84AypnrVaPsRhnwmRrygwXw_RLUzJ8jRMUjXrTm8Se08YrLIGoPfjB-J6BgLx7LkN_4HQlC4jK8hPtDUGsdT5fJ-k8T1RVUsxJUzk5GUraTIlH1e3fcSQ6gbk" xjbqb8w="" x1ejq31n="" x18oe1m7="" x1sy0etr="" xstzfhl="" x972fbf="" x10w94by="" x1qhh985="" x14e42zd="" x9f619="" x1ypdohk="" xt0psk2="" x3ct3a4="" xdj266r="" x14z9mp="" xat24cr="" x1lziwak="" xexx8yu="" xyri2b="" x18d9i69="" x1c1uobl="" x16tdsg8="" x1hl2dhg="" xggy1nq="" x1a2a7pz="" xkrqix3="" x1sur9pj="" x1fey0fg="" x1s688f"="" href="https://l.facebook.com/l.php?u=http%3A%2F%2Fcalligraphybypat.com%2F%3Ffbclid%3DIwZXh0bgNhZW0CMTAAYnJpZBExZm9HdUtkOVdyaTdWQkNHRXNydGMGYXBwX2lkEDIyMjAzOTE3ODgyMDA4OTIAAR4FpQXMo51FRfGKJEBLNpg5LvMmjuZE0m_g2Y0xAY4t3YQO0PFvv-YrqqPBBQ_aem_fuRtGao66igLR_2TFOZ3vA&amp;h=AT0fsoCyAIwdRS52IlaaALRsgxwzSdrGROi9P2yYoSc85HnBsPorXXgoxxYic7m_tQAvZSDR2ul4BkgADXy6ceNbKSyE2v3qjriOkbYE91r9NUOtgf-wKkM7Q6Q5cHrFN8l6huIv3vasEKfv&amp;__tn__=q&amp;c[0]=AT0Tj2gCcREhLvDmPahSoiyCJ17G9pGlwu_rDprgWk7l9o94eVmuUytb1sPKYDi9dH-bylGSA7hZOOLlN54LTfL7VxJbJ64XoK2zZk8n3aeQyIVLmzhpWUHt-TG6xQ3XID4Q3ZBeajeMaqZgsQSGBZNYkoRuHgPEueQ" rel="nofollow noreferrer" role="link" tabindex="0" target="_blank">calligraphybypat.com</a></div><p xat24cr="" x1lziwak="" x1vvkbs="" xtlvy1s"="">&nbsp;</p><div xat24cr="" x1lziwak="" x1vvkbs="" xtlvy1s"="">Register now at:&nbsp;<strong><span style="text-decoration: underline;"><a href="https://tinyurl.com/DGletter26" target="_blank" rel="noopener">https://tinyurl.com/DGletter26</a></span></strong></div><p xat24cr="" x1lziwak="" x1vvkbs="" xtlvy1s"="">&nbsp;</p><div xat24cr="" x1lziwak="" x1vvkbs="" xtlvy1s"="">Parking is located along Prescott Street (801 W. Smith Street). There are no public restrooms at this site.</div>
X-ALT-DESC;FMTTYPE=text/html:<div x14z9mp="" xat24cr="" x1lziwak="" x1vvkbs"="">Take time for yourself through the art of calligraphy on Saturday, February 28 from 2-4 pm at Meeting Place on the Downtown Greenway. In this beautiful handwriting class, you will learn the basics of the lowercase Italic alphabet in pencil - the skeleton of each letterform - from world-renowned calligrapher Pat Levitin. All supplies will be provided.</div><p x14z9mp="" xat24cr="" x1lziwak="" x1vvkbs"="">&nbsp;</p><div xat24cr="" x1lziwak="" x1vvkbs="" xtlvy1s"="">Pat’s calligraphic work includes resolutions, poems, and certificates for local universities and private clients. Her work has been exhibited throughout North Carolina and at international conferences. For more information, please visit her website at&nbsp;<a attributionsrc="/privacy_sandbox/comet/register/source/?xt=AZYOfnd-1wylSlx3-oqTO1KUtcayUzx_m7CCkxXQ9FayZt9asqDphrycgJW-xJ6rty42AV6ZAQdGcIwbXJNkfmxxw2Rg3NwEKEG5qXdfJK5QP76g_WgEYj9vnY0hdq4xW4BNUfh53ZSj1vGHhgjZCwzC-fWrLJr0wLYpmFBzzT_eUgP_5h71lXsCnpynkIEYq5kuSgABnX3MmHzw-18Jca1yl44iaDPg5YdeQOHR1R17d0CF1FWKUaPYDI4Uo_aGg_9tfM_MFw96tFG4OIzmldx24FQdJyLJWFXflfiXRaTwsMhHGZy9N9L90A9NshiKXPD-y7Lfo9YyMqx2mIGio2sgJC7wCk4K4WHsJM7YFIlQedvAbhmpXB6czfaqv2J6ZIlwUiIGnrCy-wieBFPJ9tuA9TL4MC61_vsUxJMhHkR0CDQxE-D02hr9fKpirsEPU6c7VRDoiE6-WoeHvRfeDCDACZiO3I7OZd707T_-9kXpbMi1fMEJUStXlPrkS9d4NfvJ4dGCPJ56Vux93z15b-yWug4tdTOXU0FBqeAY2K006rD5depuFJEMYSAEoO-JikFGKsCYbzLg8LC6IS9RBovU6xbfMXaoNrYhWzWJzxKKvYEuAVkwu1eAf5gb-tEKxwBC2Fddt6SrOr1DF5ZJ5B65kFdiYO_PTuRFellQb0_Yhz750AlI5iod4YymwsPHj0A6Vo4vOS84AypnrVaPsRhnwmRrygwXw_RLUzJ8jRMUjXrTm8Se08YrLIGoPfjB-J6BgLx7LkN_4HQlC4jK8hPtDUGsdT5fJ-k8T1RVUsxJUzk5GUraTIlH1e3fcSQ6gbk" xjbqb8w="" x1ejq31n="" x18oe1m7="" x1sy0etr="" xstzfhl="" x972fbf="" x10w94by="" x1qhh985="" x14e42zd="" x9f619="" x1ypdohk="" xt0psk2="" x3ct3a4="" xdj266r="" x14z9mp="" xat24cr="" x1lziwak="" xexx8yu="" xyri2b="" x18d9i69="" x1c1uobl="" x16tdsg8="" x1hl2dhg="" xggy1nq="" x1a2a7pz="" xkrqix3="" x1sur9pj="" x1fey0fg="" x1s688f"="" href="https://l.facebook.com/l.php?u=http%3A%2F%2Fcalligraphybypat.com%2F%3Ffbclid%3DIwZXh0bgNhZW0CMTAAYnJpZBExZm9HdUtkOVdyaTdWQkNHRXNydGMGYXBwX2lkEDIyMjAzOTE3ODgyMDA4OTIAAR4FpQXMo51FRfGKJEBLNpg5LvMmjuZE0m_g2Y0xAY4t3YQO0PFvv-YrqqPBBQ_aem_fuRtGao66igLR_2TFOZ3vA&amp;h=AT0fsoCyAIwdRS52IlaaALRsgxwzSdrGROi9P2yYoSc85HnBsPorXXgoxxYic7m_tQAvZSDR2ul4BkgADXy6ceNbKSyE2v3qjriOkbYE91r9NUOtgf-wKkM7Q6Q5cHrFN8l6huIv3vasEKfv&amp;__tn__=q&amp;c[0]=AT0Tj2gCcREhLvDmPahSoiyCJ17G9pGlwu_rDprgWk7l9o94eVmuUytb1sPKYDi9dH-bylGSA7hZOOLlN54LTfL7VxJbJ64XoK2zZk8n3aeQyIVLmzhpWUHt-TG6xQ3XID4Q3ZBeajeMaqZgsQSGBZNYkoRuHgPEueQ" rel="nofollow noreferrer" role="link" tabindex="0" target="_blank">calligraphybypat.com</a></div><p xat24cr="" x1lziwak="" x1vvkbs="" xtlvy1s"="">&nbsp;</p><div xat24cr="" x1lziwak="" x1vvkbs="" xtlvy1s"="">Register now at:&nbsp;<strong><span style="text-decoration: underline;"><a href="https://tinyurl.com/DGletter26" target="_blank" rel="noopener">https://tinyurl.com/DGletter26</a></span></strong></div><p xat24cr="" x1lziwak="" x1vvkbs="" xtlvy1s"="">&nbsp;</p><div xat24cr="" x1lziwak="" x1vvkbs="" xtlvy1s"="">Parking is located along Prescott Street (801 W. Smith Street). There are no public restrooms at this site.</div>
LOCATION:Meeting Place Park\, 801 W Smith St Greensboro\, North Carolina 27401
CLASS:PUBLIC
END:VEVENT
END:VCALENDAR
