BEGIN:VCALENDAR
VERSION:2.0
PRODID:Greensboro, NC Calendar Creator
METHOD:PUBLISH
BEGIN:VEVENT
DTSTAMP:20260401T134459
DTSTART:20260509T100000
DTEND:20260509T120000
SUMMARY:Time to Plant Summer Vegetables
DESCRIPTION:<p>Learn about great vegetables suited to our piedmont North Carolina gardens, with tips and techniques for choosing the best varieties for bountiful harvests in our region. You’ll go home with a sample packet of regionally-adapted vegetable seeds to grow in your own garden!</p><p><a href="https://ncgreenweb.myvscloud.com/webtrac/web/search.html?module=ar&amp;primarycode=TPSV" target="_blank" rel="noopener">Registration</a> is required. </p><p>Questions? Contact <a href="mailto:&#106;&#117;&#108;&#105;&#101;&#116;&#46;&#104;&#97;&#108;&#101;&#64;&#103;&#114;&#101;&#101;&#110;&#115;&#98;&#111;&#114;&#111;&#45;&#110;&#99;&#46;&#103;&#111;&#118;&#63;&#115;&#117;&#98;&#106;&#101;&#99;&#116;&#61;&#72;&#101;&#105;&#114;&#108;&#111;&#111;&#109;&#32;&#76;&#101;&#116;&#116;&#117;&#99;&#101;&#115;">Julie Hale</a>.</p>
X-ALT-DESC;FMTTYPE=text/html:<p>Learn about great vegetables suited to our piedmont North Carolina gardens, with tips and techniques for choosing the best varieties for bountiful harvests in our region. You’ll go home with a sample packet of regionally-adapted vegetable seeds to grow in your own garden!</p><p><a href="https://ncgreenweb.myvscloud.com/webtrac/web/search.html?module=ar&amp;primarycode=TPSV" target="_blank" rel="noopener">Registration</a> is required. </p><p>Questions? Contact <a href="mailto:&#106;&#117;&#108;&#105;&#101;&#116;&#46;&#104;&#97;&#108;&#101;&#64;&#103;&#114;&#101;&#101;&#110;&#115;&#98;&#111;&#114;&#111;&#45;&#110;&#99;&#46;&#103;&#111;&#118;&#63;&#115;&#117;&#98;&#106;&#101;&#99;&#116;&#61;&#72;&#101;&#105;&#114;&#108;&#111;&#111;&#109;&#32;&#76;&#101;&#116;&#116;&#117;&#99;&#101;&#115;">Julie Hale</a>.</p>
LOCATION:Keeley Park\, 4110 Keeley Rd. McLeansville\, North Carolina 27301
CLASS:PUBLIC
END:VEVENT
END:VCALENDAR
