BEGIN:VCALENDAR
VERSION:2.0
PRODID:Greensboro, NC Calendar Creator
METHOD:PUBLISH
BEGIN:VEVENT
DTSTAMP:20260128T163511
DTSTART:20260604T180000
DTEND:20260604T190000
SUMMARY:Concerned Citizens of Northeast Greensboro Meeting
DESCRIPTION:Join the Concerned Citizens of Northeast Greensboro for their monthly meeting held at Peeler Recreation Center the 1st Thursday of each month. Open to the public.
X-ALT-DESC;FMTTYPE=text/html:Join the Concerned Citizens of Northeast Greensboro for their monthly meeting held at Peeler Recreation Center the 1st Thursday of each month. Open to the public.
LOCATION:Peeler Recreation Center\, 1300 Sykes Ave. Greensboro\, North Carolina 27405
CLASS:PUBLIC
END:VEVENT
END:VCALENDAR
