BEGIN:VCALENDAR
VERSION:2.0
PRODID:Greensboro, NC Calendar Creator
METHOD:PUBLISH
BEGIN:VEVENT
DTSTAMP:20260128T092115
DTSTART:20260605T100000
DTEND:20260605T103000
SUMMARY:First Friday Storytime
DESCRIPTION:<p>Head over to the Downtown Greenway on First Fridays (May-October) for children's storytime. Young children will enjoy engaging books, cheerful songs, and playful movement with the Greensboro Public Library. Stick around and play at Woven Works Park's accessible playground features, or explore the pollinator garden!</p><p>The first 15 families can receive a free book courtesy of Ready for School, Ready for Life and The Basics Guilford.</p><p>On-street parking at 401 Cumberland Street. Note: there are no public restrooms at this location.</p><p><strong>&nbsp;(There is NO STORYTIME on Friday, July 3 due to the City of Greensboro's observance of the Independence Day Holiday)</strong></p>
X-ALT-DESC;FMTTYPE=text/html:<p>Head over to the Downtown Greenway on First Fridays (May-October) for children's storytime. Young children will enjoy engaging books, cheerful songs, and playful movement with the Greensboro Public Library. Stick around and play at Woven Works Park's accessible playground features, or explore the pollinator garden!</p><p>The first 15 families can receive a free book courtesy of Ready for School, Ready for Life and The Basics Guilford.</p><p>On-street parking at 401 Cumberland Street. Note: there are no public restrooms at this location.</p><p><strong>&nbsp;(There is NO STORYTIME on Friday, July 3 due to the City of Greensboro's observance of the Independence Day Holiday)</strong></p>
LOCATION:Woven Works Park\, 401 Cumberland St Greensboro\, North Carolina 27401
CLASS:PUBLIC
END:VEVENT
END:VCALENDAR
