BEGIN:VCALENDAR
VERSION:2.0
PRODID:Greensboro, NC Calendar Creator
METHOD:PUBLISH
BEGIN:VEVENT
DTSTAMP:20260126T145844
DTSTART:20260826T120000
DTEND:20260826T130000
SUMMARY:Women's Equality Day Luncheon
DESCRIPTION:
X-ALT-DESC;FMTTYPE=text/html:
LOCATION:Yvonne J. Johnson Event Center at Barber Park\, 1502 Barber Park Dr Greensboro\, North Carolina 27401
CLASS:PUBLIC
END:VEVENT
END:VCALENDAR
