BEGIN:VCALENDAR
VERSION:2.0
PRODID:Greensboro, NC Calendar Creator
METHOD:PUBLISH
BEGIN:VEVENT
DTSTAMP:20260125T192235
DTSTART:20260221T150000
DTEND:20260221T160000
SUMMARY:Studio Saturday: Reggie Laurent Inspired Abstract Art
DESCRIPTION:<p>Create an explosion of color and shape with this activity inspired African-American artist Reginald Laurent. Laurent's art represents many cultures coming together in a harmonious way. This program is for families.</p><p>&nbsp;</p><p>&nbsp;</p><p>&nbsp;</p><p>&nbsp;</p>
X-ALT-DESC;FMTTYPE=text/html:<p>Create an explosion of color and shape with this activity inspired African-American artist Reginald Laurent. Laurent's art represents many cultures coming together in a harmonious way. This program is for families.</p><p>&nbsp;</p><p>&nbsp;</p><p>&nbsp;</p><p>&nbsp;</p>
LOCATION:Hemphill Branch Library\, 2301 W. Vandalia Rd. Greensboro\, North Carolina 27407
CLASS:PUBLIC
END:VEVENT
END:VCALENDAR
