BEGIN:VCALENDAR
VERSION:2.0
PRODID:Greensboro, NC Calendar Creator
METHOD:PUBLISH
BEGIN:VEVENT
DTSTAMP:20260121T103224
DTSTART:20260328T130000
DTEND:20260328T153000
SUMMARY:Meet an Author Day
DESCRIPTION:<p>We are excited to offer our biannual&nbsp;<em>Meet an Author Day.&nbsp;</em>Twenty years ago, on a cold and icy winter evening, area book clubs gathered to celebrate Book Lover’s Month at Central Library. Over the next two decades, we have hosted authors like Sharyn McCrumb, Jason Mott, Jill McCorkle, Jodie Picoult, and talked about all things books at our annual&nbsp;celebration of reading. This year, we have combined the celebration with the popular&nbsp;<b>Meet An Author Day</b>&nbsp;to add to our annual celebration of books and reading. Meet some of our finest North Carolina authors and poets. Books will be available for sale and signing.<br><br>1:30 pm – Beginning Writing Workshop</p><p>Contact Ronald Headen at 336-412-6199 or&nbsp;<a>email</a>&nbsp;for more information.&nbsp;</p><p> <b><br></b></p><p><br>&nbsp; &nbsp; &nbsp; &nbsp; &nbsp; &nbsp; &nbsp; &nbsp; &nbsp; &nbsp; &nbsp; &nbsp; &nbsp; &nbsp; &nbsp; &nbsp; &nbsp; &nbsp; &nbsp; &nbsp; &nbsp; &nbsp; &nbsp; &nbsp; &nbsp; &nbsp; &nbsp; &nbsp; &nbsp; &nbsp; &nbsp; &nbsp; &nbsp; &nbsp; &nbsp; &nbsp; &nbsp; &nbsp; &nbsp; &nbsp; &nbsp; &nbsp; &nbsp; &nbsp; &nbsp; &nbsp; &nbsp; &nbsp; &nbsp; &nbsp; &nbsp; &nbsp; &nbsp; &nbsp; &nbsp;</p><p><p style="text-align: center;"><p style="text-align: center;"><p style="text-align: center;">&nbsp; &nbsp; &nbsp; &nbsp; &nbsp; &nbsp; &nbsp; &nbsp; &nbsp; &nbsp; &nbsp; &nbsp; &nbsp; &nbsp; &nbsp; &nbsp; &nbsp; &nbsp; &nbsp; &nbsp;&nbsp; &nbsp; &nbsp; &nbsp; &nbsp; &nbsp; &nbsp; &nbsp; &nbsp; &nbsp; &nbsp; &nbsp; &nbsp; &nbsp; &nbsp; &nbsp; &nbsp; &nbsp; &nbsp; &nbsp; &nbsp; &nbsp; &nbsp; &nbsp;</p></p></p></p><p>&nbsp;</p><p>&nbsp;</p><p>&nbsp;&nbsp; &nbsp;&nbsp;</p><p><p style="text-align: justify;"><p style="text-align: center;">&nbsp;</p></p></p><p>&nbsp;</p>
X-ALT-DESC;FMTTYPE=text/html:<p>We are excited to offer our biannual&nbsp;<em>Meet an Author Day.&nbsp;</em>Twenty years ago, on a cold and icy winter evening, area book clubs gathered to celebrate Book Lover’s Month at Central Library. Over the next two decades, we have hosted authors like Sharyn McCrumb, Jason Mott, Jill McCorkle, Jodie Picoult, and talked about all things books at our annual&nbsp;celebration of reading. This year, we have combined the celebration with the popular&nbsp;<b>Meet An Author Day</b>&nbsp;to add to our annual celebration of books and reading. Meet some of our finest North Carolina authors and poets. Books will be available for sale and signing.<br><br>1:30 pm – Beginning Writing Workshop</p><p>Contact Ronald Headen at 336-412-6199 or&nbsp;<a>email</a>&nbsp;for more information.&nbsp;</p><p> <b><br></b></p><p><br>&nbsp; &nbsp; &nbsp; &nbsp; &nbsp; &nbsp; &nbsp; &nbsp; &nbsp; &nbsp; &nbsp; &nbsp; &nbsp; &nbsp; &nbsp; &nbsp; &nbsp; &nbsp; &nbsp; &nbsp; &nbsp; &nbsp; &nbsp; &nbsp; &nbsp; &nbsp; &nbsp; &nbsp; &nbsp; &nbsp; &nbsp; &nbsp; &nbsp; &nbsp; &nbsp; &nbsp; &nbsp; &nbsp; &nbsp; &nbsp; &nbsp; &nbsp; &nbsp; &nbsp; &nbsp; &nbsp; &nbsp; &nbsp; &nbsp; &nbsp; &nbsp; &nbsp; &nbsp; &nbsp; &nbsp;</p><p><p style="text-align: center;"><p style="text-align: center;"><p style="text-align: center;">&nbsp; &nbsp; &nbsp; &nbsp; &nbsp; &nbsp; &nbsp; &nbsp; &nbsp; &nbsp; &nbsp; &nbsp; &nbsp; &nbsp; &nbsp; &nbsp; &nbsp; &nbsp; &nbsp; &nbsp;&nbsp; &nbsp; &nbsp; &nbsp; &nbsp; &nbsp; &nbsp; &nbsp; &nbsp; &nbsp; &nbsp; &nbsp; &nbsp; &nbsp; &nbsp; &nbsp; &nbsp; &nbsp; &nbsp; &nbsp; &nbsp; &nbsp; &nbsp; &nbsp;</p></p></p></p><p>&nbsp;</p><p>&nbsp;</p><p>&nbsp;&nbsp; &nbsp;&nbsp;</p><p><p style="text-align: justify;"><p style="text-align: center;">&nbsp;</p></p></p><p>&nbsp;</p>
LOCATION:Hemphill Branch Library\, 2301 W. Vandalia Rd. Greensboro\, North Carolina 27407
CLASS:PUBLIC
END:VEVENT
END:VCALENDAR
