BEGIN:VCALENDAR
VERSION:2.0
PRODID:Greensboro, NC Calendar Creator
METHOD:PUBLISH
BEGIN:VEVENT
DTSTAMP:20260112T132707
DTSTART:20260616T140000
DTEND:20260616T150000
SUMMARY:Kathleen Clay Fiction Book Club
DESCRIPTION:<div>Join us for a discussion of<i>&nbsp;All the Colors of the Dark&nbsp;</i>by Charmaine Wilkerson. Register by contacting&nbsp;<a href="mailto:katherine.fanstill@greensboro-nc.gov?subject=KC Fiction Book Club" title="katherine.fanstill@greensboro-nc.gov">Katie Fanstill</a>.</div><div></div><div></div><div></div><div></div><div></div>
X-ALT-DESC;FMTTYPE=text/html:<div>Join us for a discussion of<i>&nbsp;All the Colors of the Dark&nbsp;</i>by Charmaine Wilkerson. Register by contacting&nbsp;<a href="mailto:katherine.fanstill@greensboro-nc.gov?subject=KC Fiction Book Club" title="katherine.fanstill@greensboro-nc.gov">Katie Fanstill</a>.</div><div></div><div></div><div></div><div></div><div></div>
LOCATION:Kathleen Clay Edwards Family Branch Library\, 1420 Price Park Rd. Greensboro\, North Carolina 27410
CLASS:PUBLIC
END:VEVENT
END:VCALENDAR
