BEGIN:VCALENDAR
VERSION:2.0
PRODID:Greensboro, NC Calendar Creator
METHOD:PUBLISH
BEGIN:VEVENT
DTSTAMP:20260109T135611
DTSTART:20260603T180000
DTEND:20260603T200000
SUMMARY:Lake Townsend Kayak Cleanup – Guilford Creek Week
DESCRIPTION:<p>Enjoy an evening kayaking while helping to keep our lake clean and preserve its natural beauty.&nbsp;</p><p>You may bring your own kayak and personal flotation device (PFD)&nbsp;or use one provided by the City (free for this event). The City's Parks and Recreation Department has agreed to waive the rental fees due to the cleanup. Transportation to and from the event is not provided.</p><p><strong>All participants must:</strong></p><p>- Be at least 10 years of age. Participants under 16 must be supervised at all times during the event by a parent, guardian, or responsible adult.</p><p>- Have prior kayaking experience and be able to demonstrate proper kayaking etiquette.</p><p>- Fill out a&nbsp;<strong><a href="https://greensboro-nc.gov/waiver" target="_blank" rel="nofollow">waiver</a>&nbsp;</strong>to participate. Participants under 18 must have their guardian complete the&nbsp;waiver prior to arrival.</p><p>- Properly wear their PFD&nbsp;at all times.</p><div style="background-color:#f5fdff; padding:0.5em; border:1px solid #ccc; box-shadow:0 2px 6px rgba(0,0,0,0.15);"><p><strong>**Please Note:&nbsp;<a href="https://greensboro-nc.gov/LakeRSVP" target="_blank" rel="noopener">Advance registration is required</a>&nbsp;to participate in this event.&nbsp;Registration closes at <span data-start="189" data-end="222">noon the day before the event</span>. A limited number of kayaks are available for each date. Early registration is encouraged. **</strong></p></div><p><i><br>More details to follow after registration.</i></p><p><b>Questions?&nbsp;</b><a href="mailto:&#87;&#97;&#116;&#101;&#114;&#86;&#111;&#108;&#117;&#110;&#116;&#101;&#101;&#114;&#115;&#64;&#103;&#114;&#101;&#101;&#110;&#115;&#98;&#111;&#114;&#111;&#45;&#110;&#99;&#46;&#103;&#111;&#118;&#63;&#115;&#117;&#98;&#106;&#101;&#99;&#116;&#61;&#75;&#97;&#121;&#97;&#107;&#105;&#110;&#103;&#37;20&#76;&#97;&#107;&#101;&#37;20&#67;&#108;&#101;&#97;&#110;&#117;&#112;">Email us</a>.&nbsp;</p>
X-ALT-DESC;FMTTYPE=text/html:<p>Enjoy an evening kayaking while helping to keep our lake clean and preserve its natural beauty.&nbsp;</p><p>You may bring your own kayak and personal flotation device (PFD)&nbsp;or use one provided by the City (free for this event). The City's Parks and Recreation Department has agreed to waive the rental fees due to the cleanup. Transportation to and from the event is not provided.</p><p><strong>All participants must:</strong></p><p>- Be at least 10 years of age. Participants under 16 must be supervised at all times during the event by a parent, guardian, or responsible adult.</p><p>- Have prior kayaking experience and be able to demonstrate proper kayaking etiquette.</p><p>- Fill out a&nbsp;<strong><a href="https://greensboro-nc.gov/waiver" target="_blank" rel="nofollow">waiver</a>&nbsp;</strong>to participate. Participants under 18 must have their guardian complete the&nbsp;waiver prior to arrival.</p><p>- Properly wear their PFD&nbsp;at all times.</p><div style="background-color:#f5fdff; padding:0.5em; border:1px solid #ccc; box-shadow:0 2px 6px rgba(0,0,0,0.15);"><p><strong>**Please Note:&nbsp;<a href="https://greensboro-nc.gov/LakeRSVP" target="_blank" rel="noopener">Advance registration is required</a>&nbsp;to participate in this event.&nbsp;Registration closes at <span data-start="189" data-end="222">noon the day before the event</span>. A limited number of kayaks are available for each date. Early registration is encouraged. **</strong></p></div><p><i><br>More details to follow after registration.</i></p><p><b>Questions?&nbsp;</b><a href="mailto:&#87;&#97;&#116;&#101;&#114;&#86;&#111;&#108;&#117;&#110;&#116;&#101;&#101;&#114;&#115;&#64;&#103;&#114;&#101;&#101;&#110;&#115;&#98;&#111;&#114;&#111;&#45;&#110;&#99;&#46;&#103;&#111;&#118;&#63;&#115;&#117;&#98;&#106;&#101;&#99;&#116;&#61;&#75;&#97;&#121;&#97;&#107;&#105;&#110;&#103;&#37;20&#76;&#97;&#107;&#101;&#37;20&#67;&#108;&#101;&#97;&#110;&#117;&#112;">Email us</a>.&nbsp;</p>
LOCATION:Lake Townsend\, 6332 Townsend Rd Brown Summit\, North Carolina 27214
CLASS:PUBLIC
END:VEVENT
END:VCALENDAR
