BEGIN:VCALENDAR
VERSION:2.0
PRODID:Greensboro, NC Calendar Creator
METHOD:PUBLISH
BEGIN:VEVENT
DTSTAMP:20260324T143847
DTSTART:20260521T170000
DTEND:20260521T180000
SUMMARY:International Advisory Committee Meeting - Canceled
DESCRIPTION:This meeting has been canceled to support participation in the Human Rights Department's Taste of the Diaspora event on this night.
X-ALT-DESC;FMTTYPE=text/html:This meeting has been canceled to support participation in the Human Rights Department's Taste of the Diaspora event on this night.
LOCATION:
CLASS:PUBLIC
END:VEVENT
END:VCALENDAR
