BEGIN:VCALENDAR
VERSION:2.0
PRODID:Greensboro, NC Calendar Creator
METHOD:PUBLISH
BEGIN:VEVENT
DTSTAMP:20260107T150557
DTSTART:20260423T180000
DTEND:20260423T190000
SUMMARY:Ink & Impact: Celebrating Woman Writers
DESCRIPTION:<p>Join us in celebrating International Women’s Day with a special one-time writing workshop! This inspiring event will feature local women writers, with UNCG writing professors helping guide the workshop, as they share their personal journeys, creative processes, and advice for aspiring authors. Open to all skill levels, this welcoming space offers a chance to learn, connect, and be inspired by the powerful voices of women in our literary community. Celebrate creativity, empowerment, and the impact of women’s stories!</p><p></p>
X-ALT-DESC;FMTTYPE=text/html:<p>Join us in celebrating International Women’s Day with a special one-time writing workshop! This inspiring event will feature local women writers, with UNCG writing professors helping guide the workshop, as they share their personal journeys, creative processes, and advice for aspiring authors. Open to all skill levels, this welcoming space offers a chance to learn, connect, and be inspired by the powerful voices of women in our literary community. Celebrate creativity, empowerment, and the impact of women’s stories!</p><p></p>
LOCATION:Glenwood Branch Library\, 1901 W. Florida St. Greensboro\, North Carolina 27403
CLASS:PUBLIC
END:VEVENT
END:VCALENDAR
