BEGIN:VCALENDAR
VERSION:2.0
PRODID:Greensboro, NC Calendar Creator
METHOD:PUBLISH
BEGIN:VEVENT
DTSTAMP:20251229T153732
DTSTART:20260423T153000
DTEND:20260423T161500
SUMMARY:Ready Readers: "Dory Fantasmagory" with an Art Makerspace at McNairy Branch
DESCRIPTION:<p>The "Ready Readers" program is a monthly event for young readers that highlights popular book series that children love. Each event includes selections read aloud by the librarian from favorite books, followed by a craft or activity, and book recommendations.</p><p>This month’s book series is<em> Dory Fantasmagory</em> by Abby Hanlon. Come learn about this funny book series about a little sister and her imaginary friends and get recommendations for other books you might like. We will also have an Imagination Makerspace – with inspiration from Dory, you can combine your imagination with the library’s arts and crafts supplies to make a fantastic creation of your own!</p><p>This program is recommended for ages 5 - 8, but all ages are welcome.</p><p>Questions? Contact <a href="mailto:&#107;&#101;&#108;&#108;&#121;&#46;&#112;&#114;&#111;&#117;&#100;&#102;&#105;&#116;&#64;&#103;&#114;&#101;&#101;&#110;&#115;&#98;&#111;&#114;&#111;&#45;&#110;&#99;&#46;&#103;&#111;&#118;">Kelly Proudfit</a> at the Glenn McNairy Branch Library.</p><p>&nbsp;</p>
X-ALT-DESC;FMTTYPE=text/html:<p>The "Ready Readers" program is a monthly event for young readers that highlights popular book series that children love. Each event includes selections read aloud by the librarian from favorite books, followed by a craft or activity, and book recommendations.</p><p>This month’s book series is<em> Dory Fantasmagory</em> by Abby Hanlon. Come learn about this funny book series about a little sister and her imaginary friends and get recommendations for other books you might like. We will also have an Imagination Makerspace – with inspiration from Dory, you can combine your imagination with the library’s arts and crafts supplies to make a fantastic creation of your own!</p><p>This program is recommended for ages 5 - 8, but all ages are welcome.</p><p>Questions? Contact <a href="mailto:&#107;&#101;&#108;&#108;&#121;&#46;&#112;&#114;&#111;&#117;&#100;&#102;&#105;&#116;&#64;&#103;&#114;&#101;&#101;&#110;&#115;&#98;&#111;&#114;&#111;&#45;&#110;&#99;&#46;&#103;&#111;&#118;">Kelly Proudfit</a> at the Glenn McNairy Branch Library.</p><p>&nbsp;</p>
LOCATION:Glenn McNairy Branch Library\, 4860 Lake Jeanette Rd. Greensboro\, North Carolina 27455
CLASS:PUBLIC
END:VEVENT
END:VCALENDAR
