BEGIN:VCALENDAR
VERSION:2.0
PRODID:Greensboro, NC Calendar Creator
METHOD:PUBLISH
BEGIN:VEVENT
DTSTAMP:20260304T162452
DTSTART:20260303T183000
DTEND:20260303T190000
SUMMARY:Family Storytime at the Glenn McNairy Branch - CANCELED DUE TO BUILDING CLOSURE
DESCRIPTION:<p><strong>THIS EVENING'S STORYTIME IS CANCELED DUE TO A PLUMBING ISSUE AT THE GLENN MCNAIRY BRANCH&nbsp;</strong></p><p>&nbsp;Join Ms. Kelly at the Glenn McNairy Branch for a family storytime for all ages. This evening's storytime theme is colors, and will include books, songs, and rhymes.</p><p>We will meet&nbsp;in the storytime area of the children's section. If you have any questions, please call the Glenn McNairy Branch at 336-373-2015.</p><p>&nbsp;</p><p>&nbsp;</p><p style="text-align: left;">&nbsp;</p><p style="text-align: left;">&nbsp;</p>
X-ALT-DESC;FMTTYPE=text/html:<p><strong>THIS EVENING'S STORYTIME IS CANCELED DUE TO A PLUMBING ISSUE AT THE GLENN MCNAIRY BRANCH&nbsp;</strong></p><p>&nbsp;Join Ms. Kelly at the Glenn McNairy Branch for a family storytime for all ages. This evening's storytime theme is colors, and will include books, songs, and rhymes.</p><p>We will meet&nbsp;in the storytime area of the children's section. If you have any questions, please call the Glenn McNairy Branch at 336-373-2015.</p><p>&nbsp;</p><p>&nbsp;</p><p style="text-align: left;">&nbsp;</p><p style="text-align: left;">&nbsp;</p>
LOCATION:Glenn McNairy Branch Library\, 4860 Lake Jeanette Rd. Greensboro\, North Carolina 27455
CLASS:PUBLIC
END:VEVENT
END:VCALENDAR
