BEGIN:VCALENDAR
VERSION:2.0
PRODID:Greensboro, NC Calendar Creator
METHOD:PUBLISH
BEGIN:VEVENT
DTSTAMP:20251218T151120
DTSTART:20260313T100000
DTEND:20260313T120000
SUMMARY:Pretend Play: Let's Play Veterinarian at the Glenn McNairy Branch
DESCRIPTION:<p>Join us for pretend play at the library! </p><p>Today we will be playing veterinarian, and you can bring your favorite stuffed toy to be the animal patient. You will also create and take home paper props so that you can play veterinarian at home too.&nbsp; </p><p>Space is limited and registration is required. Contact the  McNairy Branch at 336-373-2015 to register. </p><p>This program is for ages 5 and under.&nbsp;</p><p>&nbsp;</p>
X-ALT-DESC;FMTTYPE=text/html:<p>Join us for pretend play at the library! </p><p>Today we will be playing veterinarian, and you can bring your favorite stuffed toy to be the animal patient. You will also create and take home paper props so that you can play veterinarian at home too.&nbsp; </p><p>Space is limited and registration is required. Contact the  McNairy Branch at 336-373-2015 to register. </p><p>This program is for ages 5 and under.&nbsp;</p><p>&nbsp;</p>
LOCATION:Glenn McNairy Branch Library\, 4860 Lake Jeanette Rd. Greensboro\, North Carolina 27455
CLASS:PUBLIC
END:VEVENT
END:VCALENDAR
