BEGIN:VCALENDAR
VERSION:2.0
PRODID:Greensboro, NC Calendar Creator
METHOD:PUBLISH
BEGIN:VEVENT
DTSTAMP:20251217T104446
DTSTART:20260527T180000
DTEND:20260527T193000
SUMMARY:Run Up On Me - Run Club for All
DESCRIPTION:<p>Love to explore new places to run and walk? Put on your running shoes and join us for this weekly run creating a space for adults, teens, and families to run, jog, walk, and have fun while exploring different spaces.&nbsp;</p><p>Questions? <a href="mailto:&#77;&#97;&#114;&#113;&#117;&#105;&#116;&#97;&#46;&#72;&#105;&#110;&#101;&#115;&#64;&#103;&#114;&#101;&#101;&#110;&#115;&#98;&#111;&#114;&#111;&#45;&#110;&#99;&#46;&#103;&#111;&#118;&#63;&#115;&#117;&#98;&#106;&#101;&#99;&#116;&#61;&#82;&#117;&#110;&#32;&#67;&#108;&#117;&#98;">Contact</a> MJ Hines.</p>
X-ALT-DESC;FMTTYPE=text/html:<p>Love to explore new places to run and walk? Put on your running shoes and join us for this weekly run creating a space for adults, teens, and families to run, jog, walk, and have fun while exploring different spaces.&nbsp;</p><p>Questions? <a href="mailto:&#77;&#97;&#114;&#113;&#117;&#105;&#116;&#97;&#46;&#72;&#105;&#110;&#101;&#115;&#64;&#103;&#114;&#101;&#101;&#110;&#115;&#98;&#111;&#114;&#111;&#45;&#110;&#99;&#46;&#103;&#111;&#118;&#63;&#115;&#117;&#98;&#106;&#101;&#99;&#116;&#61;&#82;&#117;&#110;&#32;&#67;&#108;&#117;&#98;">Contact</a> MJ Hines.</p>
LOCATION:Country Park\, 3905 Nathanael Greene Dr. Greensboro\, North Carolina 27455
CLASS:PUBLIC
END:VEVENT
END:VCALENDAR
