BEGIN:VCALENDAR
VERSION:2.0
PRODID:Greensboro, NC Calendar Creator
METHOD:PUBLISH
BEGIN:VEVENT
DTSTAMP:20251215T121157
DTSTART:20260523T130000
DTEND:20260523T160000
SUMMARY:Lindley Summer Bash
DESCRIPTION:Dive into summer with the Lindley Summer Bash! Activities include a water slide, water games, popcorn stand, music, arts and crafts, and more!
X-ALT-DESC;FMTTYPE=text/html:Dive into summer with the Lindley Summer Bash! Activities include a water slide, water games, popcorn stand, music, arts and crafts, and more!
LOCATION:Lindley Recreation Center & Al Lowe Boxing Club\, 2907 Springwood Dr. Greensboro\, North Carolina 27403
CLASS:PUBLIC
END:VEVENT
END:VCALENDAR
