BEGIN:VCALENDAR
VERSION:2.0
PRODID:Greensboro, NC Calendar Creator
METHOD:PUBLISH
BEGIN:VEVENT
DTSTAMP:20260128T152547
DTSTART:20260425T100000
DTEND:20260425T110000
SUMMARY:Planning for Pollinators and Beneficial Insects
DESCRIPTION:Learn about plants and features to add to your garden spaces to increase the number of pollinators and beneficial insects.
X-ALT-DESC;FMTTYPE=text/html:Learn about plants and features to add to your garden spaces to increase the number of pollinators and beneficial insects.
LOCATION:Brown Recreation Center\, 302 E. Vandalia Rd. Greensboro\, North Carolina 27406
CLASS:PUBLIC
END:VEVENT
END:VCALENDAR
